BEGIN:VCALENDAR
VERSION:2.0
PRODID:-//Schudio.com//Schudio Calendar 1.0//EN
CALSCALE:GREGORIAN
METHOD:PUBLISH
X-WR-CALNAME:Eastry Primary School
X-WR-TIMEZONE:Europe/London
BEGIN:VEVENT
SUMMARY:Neurodiversity Week
UID:03a6efd3585699fb2f5c20553e433ffc@schudio.com
SEQUENCE:0
STATUS:CONFIRMED
TRANSP:TRANSPARENT
DTSTART;VALUE=DATE:20260518
DTEND;VALUE=DATE:20260522
DTSTAMP:20260422T152039Z
CREATED:20250910T133131Z
LAST-MODIFIED:20250910T133131Z
CATEGORIES:Whole School 
LOCATION:
ORGANIZER:
DESCRIPTION:
END:VEVENT
END:VCALENDAR