BEGIN:VCALENDAR
VERSION:2.0
PRODID:-//Schudio.com//Schudio Calendar 1.0//EN
CALSCALE:GREGORIAN
METHOD:PUBLISH
X-WR-CALNAME:Eastry Primary School
X-WR-TIMEZONE:Europe/London
BEGIN:VEVENT
SUMMARY:Year 6 Lancaster Model Presentation and Questionairre
UID:4b40c8aa27738f6f5670a6164354193c@schudio.com
SEQUENCE:0
STATUS:CONFIRMED
TRANSP:TRANSPARENT
DTSTART:20260515T093000
DTEND:20260515T120000
DTSTAMP:20260421T122702Z
CREATED:20260203T161009Z
LAST-MODIFIED:20260203T161051Z
CATEGORIES:Year 6
LOCATION:
ORGANIZER:
DESCRIPTION:
END:VEVENT
END:VCALENDAR